BEGIN:VCALENDAR
VERSION:2.0
PRODID:-//Parròquia de Calella - ECPv6.15.20//NONSGML v1.0//EN
CALSCALE:GREGORIAN
METHOD:PUBLISH
X-WR-CALNAME:Parròquia de Calella
X-ORIGINAL-URL:https://parroquiacalella.cat
X-WR-CALDESC:Esdeveniments per Parròquia de Calella
REFRESH-INTERVAL;VALUE=DURATION:PT1H
X-Robots-Tag:noindex
X-PUBLISHED-TTL:PT1H
BEGIN:VTIMEZONE
TZID:Europe/Madrid
BEGIN:DAYLIGHT
TZOFFSETFROM:+0100
TZOFFSETTO:+0200
TZNAME:CEST
DTSTART:20250330T010000
END:DAYLIGHT
BEGIN:STANDARD
TZOFFSETFROM:+0200
TZOFFSETTO:+0100
TZNAME:CET
DTSTART:20251026T010000
END:STANDARD
BEGIN:DAYLIGHT
TZOFFSETFROM:+0100
TZOFFSETTO:+0200
TZNAME:CEST
DTSTART:20260329T010000
END:DAYLIGHT
BEGIN:STANDARD
TZOFFSETFROM:+0200
TZOFFSETTO:+0100
TZNAME:CET
DTSTART:20261025T010000
END:STANDARD
BEGIN:DAYLIGHT
TZOFFSETFROM:+0100
TZOFFSETTO:+0200
TZNAME:CEST
DTSTART:20270328T010000
END:DAYLIGHT
BEGIN:STANDARD
TZOFFSETFROM:+0200
TZOFFSETTO:+0100
TZNAME:CET
DTSTART:20271031T010000
END:STANDARD
END:VTIMEZONE
BEGIN:VEVENT
DTSTART;TZID=Europe/Madrid:20260422T160000
DTEND;TZID=Europe/Madrid:20260422T163000
DTSTAMP:20260422T122203
CREATED:20260421T164034Z
LAST-MODIFIED:20260421T164443Z
UID:36968-1776873600-1776875400@parroquiacalella.cat
SUMMARY:Exèquies de José Colón Chacón
DESCRIPTION:Natural de Paterna de Rivera (Cadis\, Andalusia) i veí del carrer Monturiol 71 de Calella\, ens ha deixat als 70 anys.\nLa seva esposa\, Amelia Povedano Bermúdez; els seus fills\, José i Vanesa; la seva jove\, Isabel; els seus nets\, Raquel i Andrea\, amb la resta de la família; notifiquen el seu traspàs i agraeixen un record en la pregària.
URL:https://parroquiacalella.cat/event/exequies-de-jose-colon-chacon/
LOCATION:Parròquia de Santa Maria i Sant Nicolau\, Plaça Esglèsia\, 25\, Calella\, Barcelona\, 08370\, Spain
ATTACH;FMTTYPE=image/jpeg:https://parroquiacalella.cat/wp-content/uploads/2026/04/Jose-Colon-Chacon.jpg
END:VEVENT
BEGIN:VEVENT
DTSTART;TZID=Europe/Madrid:20260422T193000
DTEND;TZID=Europe/Madrid:20260422T200000
DTSTAMP:20260422T122203
CREATED:20260408T154610Z
LAST-MODIFIED:20260408T154610Z
UID:36846-1776886200-1776888000@parroquiacalella.cat
SUMMARY:Missa
DESCRIPTION:
URL:https://parroquiacalella.cat/event/missa-abril-2026-5-2-6-3/
LOCATION:Barcelona
END:VEVENT
END:VCALENDAR